BEGIN:VCALENDAR
VERSION:2.0
PRODID:-//Kino Tuškanac//Filmski programi//HR
BEGIN:VEVENT
UID:b0dea35a272094ca786775dcd009c5de@kinotuskanac.hr
DTSTAMP:20260420T161511Z
DTSTART:20221217T190000
DTEND:20221217T210000
SUMMARY:Sanjiva dolina
LOCATION:Kino Tuškanac
DESCRIPTION:Sleepy Hollow, SAD, UK, Njemačka, 1999 R: Tim Burton
END:VEVENT
END:VCALENDAR