BEGIN:VCALENDAR
VERSION:2.0
PRODID:-//Kino Tuškanac//Filmski programi//HR
BEGIN:VEVENT
UID:9d6c3b28a3dd84891a25e310cf8f3513@kinotuskanac.hr
DTSTAMP:20260420T115244Z
DTSTART:20221217T210000
DTEND:20221217T230000
SUMMARY:Velike oči
LOCATION:Kino Tuškanac
DESCRIPTION:Big Eyes, SAD, Kanada, 2014 R: Tim Burton
END:VEVENT
END:VCALENDAR