BEGIN:VCALENDAR
VERSION:2.0
PRODID:-//Kino Tuškanac//Filmski programi//HR
BEGIN:VEVENT
UID:7db634a988e75f8b110105d83aed04bd@kinotuskanac.hr
DTSTAMP:20260419T225340Z
DTSTART:20221218T190000
DTEND:20221218T210000
SUMMARY:Bubimir
LOCATION:Kino Tuškanac
DESCRIPTION:Beetlejuice, SAD, 1988 R: Tim Burton
END:VEVENT
END:VCALENDAR