BEGIN:VCALENDAR
VERSION:2.0
PRODID:-//Kino Tuškanac//Filmski programi//HR
BEGIN:VEVENT
UID:51f9e1dfa76db50e0376e1c054e62944@kinotuskanac.hr
DTSTAMP:20260419T224922Z
DTSTART:20221220T210000
DTEND:20221220T230000
SUMMARY:Batman se vraća
LOCATION:Kino Tuškanac
DESCRIPTION:Batman Returns, SAD, UK, 1992 R: Tim Burton
END:VEVENT
END:VCALENDAR