BEGIN:VCALENDAR
VERSION:2.0
PRODID:-//Kino Tuškanac//Filmski programi//HR
BEGIN:VEVENT
UID:b8ba9f737c25ecc870fd9459ac896b88@kinotuskanac.hr
DTSTAMP:20260421T012336Z
DTSTART:20221204T190000
DTEND:20221204T210000
SUMMARY:Godine super osmice
LOCATION:Kino Tuškanac
DESCRIPTION:Les années super 8, Francuska, 2022 R: Annie Ernaux
END:VEVENT
END:VCALENDAR