BEGIN:VCALENDAR
VERSION:2.0
PRODID:-//Kino Tuškanac//Filmski programi//HR
BEGIN:VEVENT
UID:03e29e4c92b88fa61f221c762bddd5d7@kinotuskanac.hr
DTSTAMP:20260420T200053Z
DTSTART:20221204T204500
DTEND:20221204T224500
SUMMARY:Refrakcije
LOCATION:Kino Tuškanac
DESCRIPTION:Refractions, Hrvatska, 2022 R: Vladislav Knežević
END:VEVENT
END:VCALENDAR