BEGIN:VCALENDAR
VERSION:2.0
PRODID:-//Kino Tuškanac//Filmski programi//HR
BEGIN:VEVENT
UID:ec0b6fe748eeb2e0fcce792ed8c8404a@kinotuskanac.hr
DTSTAMP:20260425T174209Z
DTSTART:20221208T170000
DTEND:20221208T190000
SUMMARY:Kijevski proces
LOCATION:Kino Tuškanac
DESCRIPTION:The Kiev Trial, Nizozemska, Ukrajina, 2022 R: Sergej Loznica
END:VEVENT
END:VCALENDAR