BEGIN:VCALENDAR
VERSION:2.0
PRODID:-//Kino Tuškanac//Filmski programi//HR
BEGIN:VEVENT
UID:b374c7dc553ebc8c2a0936b904186c0f@kinotuskanac.hr
DTSTAMP:20260421T093042Z
DTSTART:20221208T190000
DTEND:20221208T210000
SUMMARY:Mariupolis 2
LOCATION:Kino Tuškanac
DESCRIPTION:Litva, Francuska, Njemačka, 2022 R: Mantas Kvedaravičius
END:VEVENT
END:VCALENDAR