BEGIN:VCALENDAR
VERSION:2.0
PRODID:-//Kino Tuškanac//Filmski programi//HR
BEGIN:VEVENT
UID:81ed269fd4c72dc2f2005ce0a3cebcb5@kinotuskanac.hr
DTSTAMP:20260425T173654Z
DTSTART:20221209T213000
DTEND:20221209T233000
SUMMARY:Još jedno proleće
LOCATION:Kino Tuškanac
DESCRIPTION:Srbija, Katar, 2022 R: Mladen Kovačević
END:VEVENT
END:VCALENDAR