BEGIN:VCALENDAR
VERSION:2.0
PRODID:-//Kino Tuškanac//Filmski programi//HR
BEGIN:VEVENT
UID:cda72decc136887b0acc4bad441db43c@kinotuskanac.hr
DTSTAMP:20260425T173517Z
DTSTART:20221210T170000
DTEND:20221210T190000
SUMMARY:Još jedno proleće
LOCATION:Kino Tuškanac
DESCRIPTION:Srbija, Katar, 2022 R: Mladen Kovačević
END:VEVENT
END:VCALENDAR