BEGIN:VCALENDAR
VERSION:2.0
PRODID:-//Kino Tuškanac//Filmski programi//HR
BEGIN:VEVENT
UID:c7ad26ce973f795e1b9d5ba765158cc0@kinotuskanac.hr
DTSTAMP:20260421T035422Z
DTSTART:20221210T190000
DTEND:20221210T210000
SUMMARY:Da li ste videli ovu ženu?
LOCATION:Kino Tuškanac
DESCRIPTION:Srbija, Hrvatska, 2022 R: Dušan Zorić
END:VEVENT
END:VCALENDAR