BEGIN:VCALENDAR
VERSION:2.0
PRODID:-//Kino Tuškanac//Filmski programi//HR
BEGIN:VEVENT
UID:b81455d4b2fdabecea2735e3227db2bb@kinotuskanac.hr
DTSTAMP:20260420T210028Z
DTSTART:20221211T190000
DTEND:20221211T210000
SUMMARY:Banija
LOCATION:Kino Tuškanac
DESCRIPTION:Hrvatska, Srbija, 2022 R: Nebojša Slijepčević
END:VEVENT
END:VCALENDAR