BEGIN:VCALENDAR
VERSION:2.0
PRODID:-//Kino Tuškanac//Filmski programi//HR
BEGIN:VEVENT
UID:f3869273de3fcbfffdff52c03a5be86a@kinotuskanac.hr
DTSTAMP:20260422T140924Z
DTSTART:20230110T190000
DTEND:20230110T210000
SUMMARY:Millerovo raskrižje
LOCATION:Kino Tuškanac
DESCRIPTION:Miller's Crossing, SAD, 1990 R: Joel & Ethan Coen
END:VEVENT
END:VCALENDAR