BEGIN:VCALENDAR
VERSION:2.0
PRODID:-//Kino Tuškanac//Filmski programi//HR
BEGIN:VEVENT
UID:9a74ff9af828425858ad79a07e86cbbe@kinotuskanac.hr
DTSTAMP:20260425T173836Z
DTSTART:20230111T210000
DTEND:20230111T230000
SUMMARY:Barton Fink
LOCATION:Kino Tuškanac
DESCRIPTION:SAD, UK, 1991 R: Joel & Ethan Coen
END:VEVENT
END:VCALENDAR