BEGIN:VCALENDAR
VERSION:2.0
PRODID:-//Kino Tuškanac//Filmski programi//HR
BEGIN:VEVENT
UID:dd971e03b965d77fc6355489e2317d98@kinotuskanac.hr
DTSTAMP:20260419T141647Z
DTSTART:20230112T190000
DTEND:20230112T210000
SUMMARY:Božji grad
LOCATION:Kino Tuškanac
DESCRIPTION:Cidade de Deus, Brazil, Francuska, Njemačka, 2002 R: Fernando Meirelles
END:VEVENT
END:VCALENDAR