BEGIN:VCALENDAR
VERSION:2.0
PRODID:-//Kino Tuškanac//Filmski programi//HR
BEGIN:VEVENT
UID:72844e05f9119c2980b2ae9dab3f2fbe@kinotuskanac.hr
DTSTAMP:20260423T111538Z
DTSTART:20230113T190000
DTEND:20230113T210000
SUMMARY:Kineska četvrt
LOCATION:Kino Tuškanac
DESCRIPTION:Chinatown, SAD, 1974 | Mjesto prikazivanja filma: Kulturno informativni centar KIC (Preradovićeva ul. 5) R: Roman Polanski
END:VEVENT
END:VCALENDAR