BEGIN:VCALENDAR
VERSION:2.0
PRODID:-//Kino Tuškanac//Filmski programi//HR
BEGIN:VEVENT
UID:5392c571d6add1c31bd90533ba62325f@kinotuskanac.hr
DTSTAMP:20260421T024232Z
DTSTART:20230116T210000
DTEND:20230116T230000
SUMMARY:Ludilo
LOCATION:Kino Tuškanac
DESCRIPTION:Frantic, Francuska, SAD, 1988 R: Roman Polanski
END:VEVENT
END:VCALENDAR