BEGIN:VCALENDAR
VERSION:2.0
PRODID:-//Kino Tuškanac//Filmski programi//HR
BEGIN:VEVENT
UID:716a0a5374d7f642a94a6c3c8d2a3fbc@kinotuskanac.hr
DTSTAMP:20260422T192556Z
DTSTART:20230118T190000
DTEND:20230118T210000
SUMMARY:Bal vampira
LOCATION:Kino Tuškanac
DESCRIPTION:The Fearless Vampire Killers, UK, SAD, 1967 R: Roman Polanski
END:VEVENT
END:VCALENDAR