BEGIN:VCALENDAR
VERSION:2.0
PRODID:-//Kino Tuškanac//Filmski programi//HR
BEGIN:VEVENT
UID:e54c4f8a3e0d04fa4cb8f190160edf01@kinotuskanac.hr
DTSTAMP:20260422T170559Z
DTSTART:20230121T190000
DTEND:20230121T210000
SUMMARY:Tess
LOCATION:Kino Tuškanac
DESCRIPTION:Francuska, UK, 1979 R: Roman Polanski
END:VEVENT
END:VCALENDAR