BEGIN:VCALENDAR
VERSION:2.0
PRODID:-//Kino Tuškanac//Filmski programi//HR
BEGIN:VEVENT
UID:dc49daaf9211f46c789eb50b398160f1@kinotuskanac.hr
DTSTAMP:20260422T083244Z
DTSTART:20060413T190000
DTEND:20060413T210000
SUMMARY:Dnevnik mojim roditeljima
LOCATION:Kino Tuškanac
DESCRIPTION:Napló apámnak, anyámnak, Mađarska, 1990 | Mjesto prikazivanja filma: MM Centar (Studentski centar, Savska cesta 25) R: Márta Mészáros
END:VEVENT
END:VCALENDAR