BEGIN:VCALENDAR
VERSION:2.0
PRODID:-//Kino Tuškanac//Filmski programi//HR
BEGIN:VEVENT
UID:b471d977cf96c29bb87a385d5f809cf2@kinotuskanac.hr
DTSTAMP:20260419T185538Z
DTSTART:20011204T210000
DTEND:20011204T230000
SUMMARY:Metropolis
LOCATION:Kino Tuškanac
DESCRIPTION:Njemačka, 1927 R: Fritz Lang
END:VEVENT
END:VCALENDAR