BEGIN:VCALENDAR
VERSION:2.0
PRODID:-//Kino Tuškanac//Filmski programi//HR
BEGIN:VEVENT
UID:f080586925bb254a1f32b3b0b292148f@kinotuskanac.hr
DTSTAMP:20260423T145535Z
DTSTART:20060414T210000
DTEND:20060414T230000
SUMMARY:Vrijeme je stalo
LOCATION:Kino Tuškanac
DESCRIPTION:Megáll az idö, 1982 R: Péter Gothár
END:VEVENT
END:VCALENDAR