BEGIN:VCALENDAR
VERSION:2.0
PRODID:-//Kino Tuškanac//Filmski programi//HR
BEGIN:VEVENT
UID:2f5d1965554aaa68b179c934073e790c@kinotuskanac.hr
DTSTAMP:20260421T184154Z
DTSTART:20230209T190000
DTEND:20230209T210000
SUMMARY:Sami
LOCATION:Kino Tuškanac
DESCRIPTION:Hrvatska, 2001 R: Lukas Nola
END:VEVENT
END:VCALENDAR