BEGIN:VCALENDAR
VERSION:2.0
PRODID:-//Kino Tuškanac//Filmski programi//HR
BEGIN:VEVENT
UID:554786c3f1e23f91d69f48d382667261@kinotuskanac.hr
DTSTAMP:20260420T151404Z
DTSTART:20230210T190000
DTEND:20230210T210000
SUMMARY:Monty Python i Sveti Gral - OTKAZANO
LOCATION:Kino Tuškanac
DESCRIPTION:Monty Python and the Holy Grail, UK, 1975 R: Terry Gilliam, Terry Jones
END:VEVENT
END:VCALENDAR