BEGIN:VCALENDAR
VERSION:2.0
PRODID:-//Kino Tuškanac//Filmski programi//HR
BEGIN:VEVENT
UID:4a9664299d3a86d028bd68378936914f@kinotuskanac.hr
DTSTAMP:20260420T025348Z
DTSTART:20230221T190000
DTEND:20230221T210000
SUMMARY:Gattaca
LOCATION:Kino Tuškanac
DESCRIPTION:SAD, 1997 R: Andrew Niccol
END:VEVENT
END:VCALENDAR