BEGIN:VCALENDAR
VERSION:2.0
PRODID:-//Kino Tuškanac//Filmski programi//HR
BEGIN:VEVENT
UID:3daa49d6d001b13752b32520d489eeec@kinotuskanac.hr
DTSTAMP:20260422T141043Z
DTSTART:20230222T190000
DTEND:20230222T210000
SUMMARY:Let iznad kukavičjeg gnijezda
LOCATION:Kino Tuškanac
DESCRIPTION:One Flew Over the Cuckoo's Nest, SAD, 1975 R: Miloš Forman
END:VEVENT
END:VCALENDAR