BEGIN:VCALENDAR
VERSION:2.0
PRODID:-//Kino Tuškanac//Filmski programi//HR
BEGIN:VEVENT
UID:97a2aafa8fbbb7c137b04326c48e4fff@kinotuskanac.hr
DTSTAMP:20260419T141805Z
DTSTART:20230210T190000
DTEND:20230210T210000
SUMMARY:Duhovi otoka
LOCATION:Kino Tuškanac
DESCRIPTION:The Banshees of Inisherin, Irska, UK, SAD, 2022 R: Martin McDonagh
END:VEVENT
END:VCALENDAR