BEGIN:VCALENDAR
VERSION:2.0
PRODID:-//Kino Tuškanac//Filmski programi//HR
BEGIN:VEVENT
UID:929a7ca6709ef390343b135b709f4e2a@kinotuskanac.hr
DTSTAMP:20260423T143947Z
DTSTART:20230303T190000
DTEND:20230303T210000
SUMMARY:Wendy i Lucy
LOCATION:Kino Tuškanac
DESCRIPTION:Wendy and Lucy, SAD, 2008 R: Kelly Reichardt
END:VEVENT
END:VCALENDAR