BEGIN:VCALENDAR
VERSION:2.0
PRODID:-//Kino Tuškanac//Filmski programi//HR
BEGIN:VEVENT
UID:b26f11adc5d30800c43358d0a05513d0@kinotuskanac.hr
DTSTAMP:20260423T143854Z
DTSTART:20230304T210000
DTEND:20230304T230000
SUMMARY:Rijeka trave
LOCATION:Kino Tuškanac
DESCRIPTION:River of Grass, SAD, 1994 R: Kelly Reichardt
END:VEVENT
END:VCALENDAR