BEGIN:VCALENDAR
VERSION:2.0
PRODID:-//Kino Tuškanac//Filmski programi//HR
BEGIN:VEVENT
UID:6be782c79786774cd11e9729edb3b2ea@kinotuskanac.hr
DTSTAMP:20260422T140352Z
DTSTART:20230309T210000
DTEND:20230309T230000
SUMMARY:Do kosti
LOCATION:Kino Tuškanac
DESCRIPTION:Down to the Bone, SAD, 2004 R: Debra Granik
END:VEVENT
END:VCALENDAR