BEGIN:VCALENDAR
VERSION:2.0
PRODID:-//Kino Tuškanac//Filmski programi//HR
BEGIN:VEVENT
UID:f778d37a2a2800e709ba7aa50de740d4@kinotuskanac.hr
DTSTAMP:20260421T050957Z
DTSTART:20230311T190000
DTEND:20230311T210000
SUMMARY:Suvenir - II. dio
LOCATION:Kino Tuškanac
DESCRIPTION:The Souvenir: Part II, UK, Irska, SAD, 2021 R: Joanna Hogg
END:VEVENT
END:VCALENDAR