BEGIN:VCALENDAR
VERSION:2.0
PRODID:-//Kino Tuškanac//Filmski programi//HR
BEGIN:VEVENT
UID:db14c31e60fa119a9c22fbce9da10331@kinotuskanac.hr
DTSTAMP:20260420T120505Z
DTSTART:20230313T190000
DTEND:20230313T210000
SUMMARY:Američka slatkica
LOCATION:Kino Tuškanac
DESCRIPTION:American Honey, UK, SAD, 2016 R: Andrea Arnold
END:VEVENT
END:VCALENDAR