BEGIN:VCALENDAR
VERSION:2.0
PRODID:-//Kino Tuškanac//Filmski programi//HR
BEGIN:VEVENT
UID:f481996043e6d87967d4ac71e09ea875@kinotuskanac.hr
DTSTAMP:20260421T012328Z
DTSTART:20230315T210000
DTEND:20230315T230000
SUMMARY:Orkanski visovi
LOCATION:Kino Tuškanac
DESCRIPTION:Wuthering Heights, UK, 2011 R: Andrea Arnold
END:VEVENT
END:VCALENDAR