BEGIN:VCALENDAR
VERSION:2.0
PRODID:-//Kino Tuškanac//Filmski programi//HR
BEGIN:VEVENT
UID:c2083b47641d7bc68266e9c05695b30a@kinotuskanac.hr
DTSTAMP:20260420T130531Z
DTSTART:20230326T190000
DTEND:20230326T210000
SUMMARY:Svi ostali
LOCATION:Kino Tuškanac
DESCRIPTION:Alle Anderen, Njemačka, 2009 R: Maren Ade
END:VEVENT
END:VCALENDAR