BEGIN:VCALENDAR
VERSION:2.0
PRODID:-//Kino Tuškanac//Filmski programi//HR
BEGIN:VEVENT
UID:27e5c5e1ba82ae43e7a4c1bc91c87a90@kinotuskanac.hr
DTSTAMP:20260421T115011Z
DTSTART:20230327T210000
DTEND:20230327T230000
SUMMARY:Ljeto 1993
LOCATION:Kino Tuškanac
DESCRIPTION:Estiu 1993, Španjolska, 2017 R: Carla Simón
END:VEVENT
END:VCALENDAR