BEGIN:VCALENDAR
VERSION:2.0
PRODID:-//Kino Tuškanac//Filmski programi//HR
BEGIN:VEVENT
UID:fdaf9d32f9c7638057956cf85ea415e0@kinotuskanac.hr
DTSTAMP:20260420T023734Z
DTSTART:20230328T190000
DTEND:20230328T210000
SUMMARY:Moramo razgovarati o Kevinu
LOCATION:Kino Tuškanac
DESCRIPTION:We Need to Talk About Kevin, UK, SAD, 2011 R: Lynne Ramsay
END:VEVENT
END:VCALENDAR