BEGIN:VCALENDAR
VERSION:2.0
PRODID:-//Kino Tuškanac//Filmski programi//HR
BEGIN:VEVENT
UID:5a8e2b208a803e1b38a39338632a559a@kinotuskanac.hr
DTSTAMP:20260423T144803Z
DTSTART:20230328T210000
DTEND:20230328T230000
SUMMARY:Dnevnik trudnice
LOCATION:Kino Tuškanac
DESCRIPTION:L'opéra-mouffe, Francuska, 1958 R: Agnès Varda
END:VEVENT
END:VCALENDAR