BEGIN:VCALENDAR
VERSION:2.0
PRODID:-//Kino Tuškanac//Filmski programi//HR
BEGIN:VEVENT
UID:526ba379168ca5c3e966f90ddf29de88@kinotuskanac.hr
DTSTAMP:20260421T035422Z
DTSTART:20230322T211500
DTEND:20230322T231500
SUMMARY:Da li ste videli ovu ženu?
LOCATION:Kino Tuškanac
DESCRIPTION:Srbija, Hrvatska, 2022 R: Dušan Zorić
END:VEVENT
END:VCALENDAR