BEGIN:VCALENDAR
VERSION:2.0
PRODID:-//Kino Tuškanac//Filmski programi//HR
BEGIN:VEVENT
UID:a0e911b83aeb347850c6ea0be3a4149f@kinotuskanac.hr
DTSTAMP:20260421T035346Z
DTSTART:20230324T170000
DTEND:20230324T190000
SUMMARY:Da li ste videli ovu ženu?
LOCATION:Kino Tuškanac
DESCRIPTION:Srbija, Hrvatska, 2022 R: Dušan Zorić
END:VEVENT
END:VCALENDAR