BEGIN:VCALENDAR
VERSION:2.0
PRODID:-//Kino Tuškanac//Filmski programi//HR
BEGIN:VEVENT
UID:e7cd11b59d6ee3d4cdc8a567d321e553@kinotuskanac.hr
DTSTAMP:20260420T220900Z
DTSTART:20230407T210000
DTEND:20230407T230000
SUMMARY:Linija
LOCATION:Kino Tuškanac
DESCRIPTION:La ligne, Francuska, Belgija, Švicarska, 2022 R: Ursula Meier
END:VEVENT
END:VCALENDAR