BEGIN:VCALENDAR
VERSION:2.0
PRODID:-//Kino Tuškanac//Filmski programi//HR
BEGIN:VEVENT
UID:55862dba88b0584204b238f4c4671df1@kinotuskanac.hr
DTSTAMP:20260420T220501Z
DTSTART:20230415T210000
DTEND:20230415T230000
SUMMARY:Linija
LOCATION:Kino Tuškanac
DESCRIPTION:La ligne, Francuska, Belgija, Švicarska, 2022 R: Ursula Meier
END:VEVENT
END:VCALENDAR