BEGIN:VCALENDAR
VERSION:2.0
PRODID:-//Kino Tuškanac//Filmski programi//HR
BEGIN:VEVENT
UID:1979d1fd40c127ad4c815b9f11986d81@kinotuskanac.hr
DTSTAMP:20260420T133738Z
DTSTART:20230417T190000
DTEND:20230417T210000
SUMMARY:Korzet
LOCATION:Kino Tuškanac
DESCRIPTION:Corsage, Austrija, Francuska, Luksemburg, Njemačka, 2022 R: Marie Kreutzer
END:VEVENT
END:VCALENDAR