BEGIN:VCALENDAR
VERSION:2.0
PRODID:-//Kino Tuškanac//Filmski programi//HR
BEGIN:VEVENT
UID:35687434101d2fb6f521b64ed82044dc@kinotuskanac.hr
DTSTAMP:20260420T114930Z
DTSTART:20230418T210000
DTEND:20230418T230000
SUMMARY:Noćni putnici
LOCATION:Kino Tuškanac
DESCRIPTION:Les passagers de la nuit, Francuska, 2022 R: Mikhaël Hers
END:VEVENT
END:VCALENDAR