BEGIN:VCALENDAR
VERSION:2.0
PRODID:-//Kino Tuškanac//Filmski programi//HR
BEGIN:VEVENT
UID:86488bd351dfdd367c28498068c8065b@kinotuskanac.hr
DTSTAMP:20260420T114855Z
DTSTART:20230420T190000
DTEND:20230420T210000
SUMMARY:Tori i Lokita
LOCATION:Kino Tuškanac
DESCRIPTION:Tori et Lokita, Belgija, Francuska, 2022 R: Jean-Pierre Dardenne, Luc Dardenne
END:VEVENT
END:VCALENDAR