BEGIN:VCALENDAR
VERSION:2.0
PRODID:-//Kino Tuškanac//Filmski programi//HR
BEGIN:VEVENT
UID:afbe494738955fae842d30cb6b1cbfc7@kinotuskanac.hr
DTSTAMP:20260420T115243Z
DTSTART:20230421T210000
DTEND:20230421T230000
SUMMARY:Rupa
LOCATION:Kino Tuškanac
DESCRIPTION:Il Bucco, Italija, Francuska, Njemačka, 2021 R: Michelangelo Frammartino
END:VEVENT
END:VCALENDAR