BEGIN:VCALENDAR
VERSION:2.0
PRODID:-//Kino Tuškanac//Filmski programi//HR
BEGIN:VEVENT
UID:dce8ddf0d9e6c6d4b667f9fd7ec3d4c2@kinotuskanac.hr
DTSTAMP:20260423T113453Z
DTSTART:20230423T210000
DTEND:20230423T230000
SUMMARY:Baksuzno bubanje ili bezumni pornić
LOCATION:Kino Tuškanac
DESCRIPTION:Babardeală cu bucluc sau porno balamuc, Rumunjska, Luksemburg, Češka, Hrvatska, 2021 R: Radu Jude
END:VEVENT
END:VCALENDAR