BEGIN:VCALENDAR
VERSION:2.0
PRODID:-//Kino Tuškanac//Filmski programi//HR
BEGIN:VEVENT
UID:98786d06e7da3346da24f294af558ea3@kinotuskanac.hr
DTSTAMP:20260420T115133Z
DTSTART:20230427T210000
DTEND:20230427T230000
SUMMARY:Rupa
LOCATION:Kino Tuškanac
DESCRIPTION:Il Bucco, Italija, Francuska, Njemačka, 2021 R: Michelangelo Frammartino
END:VEVENT
END:VCALENDAR