BEGIN:VCALENDAR
VERSION:2.0
PRODID:-//Kino Tuškanac//Filmski programi//HR
BEGIN:VEVENT
UID:900848b0662e9d7c0fd41cb21af8ae5a@kinotuskanac.hr
DTSTAMP:20260420T114854Z
DTSTART:20230428T190000
DTEND:20230428T210000
SUMMARY:Tori i Lokita
LOCATION:Kino Tuškanac
DESCRIPTION:Tori et Lokita, Belgija, Francuska, 2022 R: Jean-Pierre Dardenne, Luc Dardenne
END:VEVENT
END:VCALENDAR