BEGIN:VCALENDAR
VERSION:2.0
PRODID:-//Kino Tuškanac//Filmski programi//HR
BEGIN:VEVENT
UID:5d98d3b413d82b4a8ffb10520f343df3@kinotuskanac.hr
DTSTAMP:20260420T114931Z
DTSTART:20230428T210000
DTEND:20230428T230000
SUMMARY:Noćni putnici
LOCATION:Kino Tuškanac
DESCRIPTION:Les passagers de la nuit, Francuska, 2022 R: Mikhaël Hers
END:VEVENT
END:VCALENDAR