BEGIN:VCALENDAR
VERSION:2.0
PRODID:-//Kino Tuškanac//Filmski programi//HR
BEGIN:VEVENT
UID:4ff66bf746dec708cf8042e6187d71d8@kinotuskanac.hr
DTSTAMP:20260421T035157Z
DTSTART:20230413T170000
DTEND:20230413T190000
SUMMARY:Da li ste videli ovu ženu?
LOCATION:Kino Tuškanac
DESCRIPTION:Srbija, Hrvatska, 2022 R: Dušan Zorić
END:VEVENT
END:VCALENDAR